BEGIN:VCALENDAR
VERSION:2.0
PRODID:-//Macedonia Church of Lenoir County - ECPv6.15.20//NONSGML v1.0//EN
CALSCALE:GREGORIAN
METHOD:PUBLISH
X-WR-CALNAME:Macedonia Church of Lenoir County
X-ORIGINAL-URL:https://mc4all.org
X-WR-CALDESC:Events for Macedonia Church of Lenoir County
REFRESH-INTERVAL;VALUE=DURATION:PT1H
X-Robots-Tag:noindex
X-PUBLISHED-TTL:PT1H
BEGIN:VTIMEZONE
TZID:UTC
BEGIN:STANDARD
TZOFFSETFROM:+0000
TZOFFSETTO:+0000
TZNAME:UTC
DTSTART:20230101T000000
END:STANDARD
END:VTIMEZONE
BEGIN:VEVENT
DTSTART;TZID=UTC:20241221T120000
DTEND;TZID=UTC:20241221T130000
DTSTAMP:20260424T152148
CREATED:20241213T214648Z
LAST-MODIFIED:20241213T214742Z
UID:2543-1734782400-1734786000@mc4all.org
SUMMARY:Gone Too Soon
DESCRIPTION:The “1st Annual Gone Too Soon Banquet\,” which will take place on December 21\, 2024\, at 12 PM at the Kinston Community Center\, 2602 West Vernon Avenue\, Kinston\, NC 28504. The event is a gathering for parents to remember and honor their children. \nThe banquet is organized in partnership with various community entities\, including Macedonia Activity Community Center\, Macedonia Griefshare\, Lenoir County Sheriff’s Office\, Kinston Police Department\, and Kinston Fire Department. \nFor support or inquiries\, attendees can contact GriefShare at 252-527-0896.
URL:https://mc4all.org/event/gone-too-soon/
ATTACH;FMTTYPE=image/jpeg:https://mc4all.org/wp-content/uploads/2024/12/284819408526161771.jpg
END:VEVENT
BEGIN:VEVENT
DTSTART;TZID=UTC:20241215T100000
DTEND;TZID=UTC:20241215T113000
DTSTAMP:20260424T152148
CREATED:20241213T214357Z
LAST-MODIFIED:20241213T214832Z
UID:2539-1734256800-1734262200@mc4all.org
SUMMARY:Worship Service
DESCRIPTION:The 145th Anniversary of Macedonia Church of Lenoir County with the theme\, “Working For YOU\, With YOU\, And Through YOU!” \nThe event will take place on Sunday\, December 15\, 2024\, with a Worship Service at 10:00 a.m. and Lunch at 1:00 p.m. \nLocation: 648 Albrittons Road\, Kinston\, NC. For more details\, visit MC4ALL.ORG or call 252-527-0896.
URL:https://mc4all.org/event/worship-service/
ATTACH;FMTTYPE=image/jpeg:https://mc4all.org/wp-content/uploads/2024/12/9062672598986514702.jpg
END:VEVENT
END:VCALENDAR